BEGIN:VCALENDAR
VERSION:2.0
PRODID:-//Tukios.com/
BEGIN:VEVENT
UID:b267fb7d-14cd-4bb9-8ce5-9e06775d35ac@www.moodyfuneralservices.com
DTSTAMP:20260424T194319Z
DTSTART:20260425T220000Z
DTEND:20260426T000000Z
SUMMARY:Visitation
DESCRIPTION:
URL:https://www.moodyfuneralservices.com/obituaries/anthony-spencer
LOCATION: 1790 Old Pipers Gap Road  Cana VA 24317
GEO:36.5714216;-80.7162947
END:VEVENT
END:VCALENDAR