BEGIN:VCALENDAR
VERSION:2.0
PRODID:-//Tukios.com/
BEGIN:VEVENT
UID:b5c6d25f-da7f-402c-9680-83e0874c3f00@www.moodyfuneralservices.com
DTSTAMP:20260424T194319Z
DTSTART:20260426
SUMMARY:Burial
DESCRIPTION:
URL:https://www.moodyfuneralservices.com/obituaries/anthony-spencer
LOCATION: 227 Old Pipers Gap Rd  Lambsburg VA 24351
GEO:36.5795148;-80.7403596
END:VEVENT
END:VCALENDAR