BEGIN:VCALENDAR
VERSION:2.0
PRODID:-//Tukios.com/
BEGIN:VEVENT
UID:d66c2ef9-855d-41db-9376-1ba636d88372@www.moodyfuneralservices.com
DTSTAMP:20260420T183009Z
DTSTART:20260424T220000Z
DTEND:20260425T000000Z
SUMMARY:Visitation
DESCRIPTION:
URL:https://www.moodyfuneralservices.com/obituaries/brenda-kay-dezern-brown
LOCATION: 4245 Shoals Rd  Pinnacle NC 27043
GEO:36.2751329;-80.5115667
END:VEVENT
END:VCALENDAR