BEGIN:VCALENDAR
VERSION:2.0
PRODID:-//Tukios.com/
BEGIN:VEVENT
UID:56bb630b-ae4a-4416-9fc1-bfca1bc70612@www.moodyfuneralservices.com
DTSTAMP:20260420T183030Z
DTSTART:20260425T190000Z
DTEND:20260425T200000Z
SUMMARY:Funeral Service
DESCRIPTION:
URL:https://www.moodyfuneralservices.com/obituaries/brenda-kay-dezern-brown
LOCATION: 4245 Shoals Rd  Pinnacle NC 27043
GEO:36.2751329;-80.5115667
END:VEVENT
END:VCALENDAR