BEGIN:VCALENDAR
VERSION:2.0
PRODID:-//Tukios.com/
BEGIN:VEVENT
UID:f180c871-f99e-42f1-996b-8b3bf63f1d18@www.moodyfuneralservices.com
DTSTAMP:20260424T223000Z
DTSTART:20260427T170000Z
DTEND:20260427T180000Z
SUMMARY:Visitation
DESCRIPTION:
URL:https://www.moodyfuneralservices.com/obituaries/brittany-nance
LOCATION: 1142 Pine Ridge Rd  Mt Airy NC 27030
GEO:36.5000905;-80.7188213
END:VEVENT
END:VCALENDAR