BEGIN:VCALENDAR
VERSION:2.0
PRODID:-//Tukios.com/
BEGIN:VEVENT
UID:a83ecb49-4e5f-4785-8570-dea93534206e@www.moodyfuneralservices.com
DTSTAMP:20260424T222959Z
DTSTART:20260427T180000Z
DTEND:20260427T190000Z
SUMMARY:Funeral Service
DESCRIPTION:
URL:https://www.moodyfuneralservices.com/obituaries/brittany-nance
LOCATION: 1142 Pine Ridge Rd  Mt Airy NC 27030
GEO:36.5000905;-80.7188213
END:VEVENT
END:VCALENDAR