BEGIN:VCALENDAR
VERSION:2.0
PRODID:-//Tukios.com/
BEGIN:VEVENT
UID:9ce93874-35a8-4bd9-8ccd-86d65b1110b5@www.moodyfuneralservices.com
DTSTAMP:20260422T194725Z
DTSTART:20260425T180000Z
DTEND:20260425T190000Z
SUMMARY:Memorial Service
DESCRIPTION:
URL:https://www.moodyfuneralservices.com/obituaries/charles-newman
LOCATION: 215 West Kapp Street  Dobson NC 27017
GEO:36.3957308;-80.7247766
END:VEVENT
END:VCALENDAR