BEGIN:VCALENDAR
VERSION:2.0
PRODID:-//Tukios.com/
BEGIN:VEVENT
UID:e467d0f9-9274-4876-9059-db78a62bba3c@www.moodyfuneralservices.com
DTSTAMP:20260423T221455Z
DTSTART:20260427T180000Z
DTEND:20260427T190000Z
SUMMARY:Graveside Service
DESCRIPTION:
URL:https://www.moodyfuneralservices.com/obituaries/dorothy-hamby-gwyn
LOCATION: 432 Old Buck Shoals Rd  Mt Airy NC 27030
GEO:36.4735651;-80.5850483
END:VEVENT
END:VCALENDAR