BEGIN:VCALENDAR
VERSION:2.0
PRODID:-//Tukios.com/
BEGIN:VEVENT
UID:8508e377-aa3e-4ea6-a3db-d2daee192351@www.moodyfuneralservices.com
DTSTAMP:20260419T234424Z
DTSTART:20260421T210000Z
DTEND:20260421T220000Z
SUMMARY:Graveside Service
DESCRIPTION:
URL:https://www.moodyfuneralservices.com/obituaries/frances-beasley
LOCATION: 4866 Moorefield Store Road  Stuart VA 24171
GEO:36.553895;-80.143214
END:VEVENT
END:VCALENDAR