BEGIN:VCALENDAR
VERSION:2.0
PRODID:-//Tukios.com/
BEGIN:VEVENT
UID:b19b6d16-0a61-4076-b897-641f4217b4b9@www.moodyfuneralservices.com
DTSTAMP:20260424T011457Z
DTSTART:20260426T150000Z
DTEND:20260426T160000Z
SUMMARY:Visitation
DESCRIPTION:
URL:https://www.moodyfuneralservices.com/obituaries/james-thomas-reynolds
LOCATION:Mount Nebo Pentecostal Holiness Church 30598 Jeb Stuart Highway  
	Spencer VA 24165
GEO:36.5980994;-80.07442
END:VEVENT
END:VCALENDAR