BEGIN:VCALENDAR
VERSION:2.0
PRODID:-//Tukios.com/
BEGIN:VEVENT
UID:2147f4a1-0af0-485c-949f-c20d33fc5e0d@www.moodyfuneralservices.com
DTSTAMP:20260424T011605Z
DTSTART:20260426T160000Z
DTEND:20260426T170000Z
SUMMARY:Funeral Service
DESCRIPTION:
URL:https://www.moodyfuneralservices.com/obituaries/james-thomas-reynolds
LOCATION:Mount Nebo Pentecostal Holiness Church 30598 Jeb Stuart Highway  
	Spencer VA 24165
GEO:36.5980994;-80.07442
END:VEVENT
END:VCALENDAR