BEGIN:VCALENDAR
VERSION:2.0
PRODID:-//Tukios.com/
BEGIN:VEVENT
UID:a04a2c18-7f20-4394-8f4e-b16e0118cd81@www.moodyfuneralservices.com
DTSTAMP:20260420T000007Z
DTSTART:20260422T150000Z
DTEND:20260422T160000Z
SUMMARY:Visitation
DESCRIPTION:
URL:https://www.moodyfuneralservices.com/obituaries/john-garris
LOCATION: 1029 Crossroads Church Rd  Dobson NC 27017
GEO:36.4209834;-80.8058981
END:VEVENT
END:VCALENDAR