BEGIN:VCALENDAR
VERSION:2.0
PRODID:-//Tukios.com/
BEGIN:VEVENT
UID:e7d81d45-9728-4c48-b516-3f0120c7a665@www.moodyfuneralservices.com
DTSTAMP:20260419T235414Z
DTSTART:20260422T160000Z
DTEND:20260422T170000Z
SUMMARY:Funeral Service
DESCRIPTION:
URL:https://www.moodyfuneralservices.com/obituaries/john-garris
LOCATION: 1029 Crossroads Church Rd  Dobson NC 27017
GEO:36.4209834;-80.8058981
END:VEVENT
END:VCALENDAR