BEGIN:VCALENDAR
VERSION:2.0
PRODID:-//Tukios.com/
BEGIN:VEVENT
UID:4c543231-be97-4368-8282-659ec700eeae@www.moodyfuneralservices.com
DTSTAMP:20260419T235219Z
DTSTART:20260422T040000Z
DTEND:20260422T190000Z
SUMMARY:Burial
DESCRIPTION:
URL:https://www.moodyfuneralservices.com/obituaries/john-garris
LOCATION: 1029 Crossroads Church Rd  Dobson NC 27017
GEO:36.4209834;-80.8058981
END:VEVENT
END:VCALENDAR