BEGIN:VCALENDAR
VERSION:2.0
PRODID:-//Tukios.com/
BEGIN:VEVENT
UID:fc78e331-e586-44d6-b843-7860b70639bb@www.moodyfuneralservices.com
DTSTAMP:20260419T172901Z
DTSTART:20260420T170000Z
DTEND:20260420T180000Z
SUMMARY:Lie in State
DESCRIPTION:
URL:https://www.moodyfuneralservices.com/obituaries/juanita-edwards
LOCATION: 5108 Westfield Rd  Mt Airy NC 27030
GEO:36.5044514;-80.4848358
END:VEVENT
END:VCALENDAR