BEGIN:VCALENDAR
VERSION:2.0
PRODID:-//Tukios.com/
BEGIN:VEVENT
UID:c09d534d-b276-4675-bfd9-ce7c970d61f2@www.moodyfuneralservices.com
DTSTAMP:20260419T173050Z
DTSTART:20260420T180000Z
DTEND:20260420T190000Z
SUMMARY:Funeral Service
DESCRIPTION:
URL:https://www.moodyfuneralservices.com/obituaries/juanita-edwards
LOCATION: 5108 Westfield Rd  Mt Airy NC 27030
GEO:36.5044514;-80.4848358
END:VEVENT
END:VCALENDAR