BEGIN:VCALENDAR
VERSION:2.0
PRODID:-//Tukios.com/
BEGIN:VEVENT
UID:470bf6d7-1db3-43fa-8931-e0d657945e7c@www.moodyfuneralservices.com
DTSTAMP:20260419T172941Z
DTSTART:20260420T191500Z
DTEND:20260420T200000Z
SUMMARY:Burial
DESCRIPTION:
URL:https://www.moodyfuneralservices.com/obituaries/juanita-edwards
LOCATION: 5108 Westfield Rd  Mt Airy NC 27030
GEO:36.5044514;-80.4848358
END:VEVENT
END:VCALENDAR