BEGIN:VCALENDAR
VERSION:2.0
PRODID:-//Tukios.com/
BEGIN:VEVENT
UID:0ed2821a-d4fe-465a-961d-12fbb8319d2c@www.moodyfuneralservices.com
DTSTAMP:20260421T223655Z
DTSTART:20260423T170000Z
DTEND:20260423T180000Z
SUMMARY:Visitation
DESCRIPTION:
URL:https://www.moodyfuneralservices.com/obituaries/mary-horning
LOCATION:Holy Angels Catholic Church 1208 North Main Street  Mount Airy 
	NC 27030
GEO:36.5140161;-80.6062931
END:VEVENT
END:VCALENDAR