BEGIN:VCALENDAR
VERSION:2.0
PRODID:-//Tukios.com/
BEGIN:VEVENT
UID:9fe446e1-6d25-4e36-8a95-c37ece4353a5@www.moodyfuneralservices.com
DTSTAMP:20260421T223356Z
DTSTART:20260423T180000Z
DTEND:20260423T190000Z
SUMMARY:Mass
DESCRIPTION:
URL:https://www.moodyfuneralservices.com/obituaries/mary-horning
LOCATION:Holy Angels Catholic Church 1208 North Main Street  Mount Airy 
	NC 27030
GEO:36.5140161;-80.6062931
END:VEVENT
END:VCALENDAR