BEGIN:VCALENDAR
VERSION:2.0
PRODID:-//Tukios.com/
BEGIN:VEVENT
UID:7add74bd-95a3-4be6-b409-736c30ed7091@www.moodyfuneralservices.com
DTSTAMP:20260422T234031Z
DTSTART:20260426T170000Z
DTEND:20260426T180000Z
SUMMARY:Visitation
DESCRIPTION:
URL:https://www.moodyfuneralservices.com/obituaries/odessa-shores
LOCATION: 423 Union Hill Rd  Thurmond NC 28683
GEO:36.3859697;-80.8670703
END:VEVENT
END:VCALENDAR