BEGIN:VCALENDAR
VERSION:2.0
PRODID:-//Tukios.com/
BEGIN:VEVENT
UID:70fb2e62-eb4f-486e-a72c-832a834c5aac@www.moodyfuneralservices.com
DTSTAMP:20260422T234351Z
DTSTART:20260426T180000Z
DTEND:20260426T190000Z
SUMMARY:Funeral Service
DESCRIPTION:
URL:https://www.moodyfuneralservices.com/obituaries/odessa-shores
LOCATION: 423 Union Hill Rd  Thurmond NC 28683
GEO:36.3859697;-80.8670703
END:VEVENT
END:VCALENDAR