BEGIN:VCALENDAR
VERSION:2.0
PRODID:-//Tukios.com/
BEGIN:VEVENT
UID:e7a8815c-ef5d-476d-92e5-b6dd4316f21a@www.moodyfuneralservices.com
DTSTAMP:20260422T233858Z
DTSTART:20260426T190000Z
DTEND:20260426T200000Z
SUMMARY:Burial
DESCRIPTION:
URL:https://www.moodyfuneralservices.com/obituaries/odessa-shores
LOCATION: 423 Union Hill Rd  Thurmond NC 28683
GEO:36.3859697;-80.8670703
END:VEVENT
END:VCALENDAR