BEGIN:VCALENDAR
VERSION:2.0
PRODID:-//Tukios.com/
BEGIN:VEVENT
UID:496439dc-eb42-490b-a5ef-66be1e3fc492@www.moodyfuneralservices.com
DTSTAMP:20260420T195536Z
DTSTART:20260423T180000Z
DTEND:20260423T190000Z
SUMMARY:Visitation
DESCRIPTION:
URL:https://www.moodyfuneralservices.com/obituaries/rosie-lawson
LOCATION: 161 Minnies Chapel Loop  Stuart VA 24171
GEO:36.5570192;-80.245165
END:VEVENT
END:VCALENDAR