BEGIN:VCALENDAR
VERSION:2.0
PRODID:-//Tukios.com/
BEGIN:VEVENT
UID:d3e54220-a3aa-4d68-926a-8ca068f36fff@www.moodyfuneralservices.com
DTSTAMP:20260420T195338Z
DTSTART:20260423T190000Z
DTEND:20260423T200000Z
SUMMARY:Burial
DESCRIPTION:
URL:https://www.moodyfuneralservices.com/obituaries/rosie-lawson
LOCATION: 161 Minnies Chapel Loop  Stuart VA 24171
GEO:36.5570192;-80.245165
END:VEVENT
END:VCALENDAR