BEGIN:VCALENDAR
VERSION:2.0
PRODID:-//Tukios.com/
BEGIN:VEVENT
UID:dea3efc8-5dc4-4e87-800e-d8729901dba8@www.moodyfuneralservices.com
DTSTAMP:20260419T215406Z
DTSTART:20260421T180000Z
DTEND:20260421T190000Z
SUMMARY:Visitation
DESCRIPTION:
URL:https://www.moodyfuneralservices.com/obituaries/shelby-jean-wood
LOCATION: 215 West Kapp Street  Dobson NC 27017
GEO:36.3957308;-80.7247766
END:VEVENT
END:VCALENDAR