BEGIN:VCALENDAR
VERSION:2.0
PRODID:-//Tukios.com/
BEGIN:VEVENT
UID:175be517-9982-4048-bb47-5101d66dce24@www.moodyfuneralservices.com
DTSTAMP:20260419T214811Z
DTSTART:20260421T190000Z
DTEND:20260421T200000Z
SUMMARY:Funeral Service
DESCRIPTION:
URL:https://www.moodyfuneralservices.com/obituaries/shelby-jean-wood
LOCATION: 215 West Kapp Street  Dobson NC 27017
GEO:36.3957308;-80.7247766
END:VEVENT
END:VCALENDAR