BEGIN:VCALENDAR
VERSION:2.0
PRODID:-//Tukios.com/
BEGIN:VEVENT
UID:ca18387a-7444-4087-bd85-ebacc8dbcd42@www.moodyfuneralservices.com
DTSTAMP:20260419T215124Z
DTSTART:20260421
SUMMARY:Burial
DESCRIPTION:
URL:https://www.moodyfuneralservices.com/obituaries/shelby-jean-wood
LOCATION:Stony Knoll United Methodist Church 894 Stony Knoll Rd  Dobson 
	NC 27017
GEO:36.3126953;-80.6734319
END:VEVENT
END:VCALENDAR