BEGIN:VCALENDAR
VERSION:2.0
PRODID:-//Tukios.com/
BEGIN:VEVENT
UID:588a3321-c688-4acf-a743-53ab81ad19d0@www.moodyfuneralservices.com
DTSTAMP:20260419T145406Z
DTSTART:20260422T170000Z
DTEND:20260422T180000Z
SUMMARY:Visitation
DESCRIPTION:
URL:https://www.moodyfuneralservices.com/obituaries/susan-ann-fulk
LOCATION: 1401 N Main St  Mt Airy NC 27030
GEO:36.5165922;-80.604798
END:VEVENT
END:VCALENDAR