BEGIN:VCALENDAR
VERSION:2.0
PRODID:-//Tukios.com/
BEGIN:VEVENT
UID:a108ae51-e633-4edf-9ddb-03c4c2f7097f@www.moodyfuneralservices.com
DTSTAMP:20260419T145401Z
DTSTART:20260422T180000Z
DTEND:20260422T190000Z
SUMMARY:Funeral Service
DESCRIPTION:
URL:https://www.moodyfuneralservices.com/obituaries/susan-ann-fulk
LOCATION: 1401 N Main St  Mt Airy NC 27030
GEO:36.5165922;-80.604798
END:VEVENT
END:VCALENDAR