BEGIN:VCALENDAR
VERSION:2.0
PRODID:-//Tukios.com/
BEGIN:VEVENT
UID:5804b464-8ce3-484e-b0ae-07c6f3cd076f@www.moodyfuneralservices.com
DTSTAMP:20260424T150333Z
DTSTART:20260427T160000Z
DTEND:20260427T170000Z
SUMMARY:Visitation
DESCRIPTION:
URL:https://www.moodyfuneralservices.com/obituaries/terry-ray
LOCATION: 202 West Blue Ridge Street  Stuart VA 24171
GEO:36.6456566;-80.2722472
END:VEVENT
END:VCALENDAR