BEGIN:VCALENDAR
VERSION:2.0
PRODID:-//Tukios.com/
BEGIN:VEVENT
UID:8743edeb-29e1-4b5d-8c75-2ee0c4cb3696@www.moodyfuneralservices.com
DTSTAMP:20260424T150419Z
DTSTART:20260427T170000Z
DTEND:20260427T180000Z
SUMMARY:Funeral Service
DESCRIPTION:
URL:https://www.moodyfuneralservices.com/obituaries/terry-ray
LOCATION: 202 West Blue Ridge Street  Stuart VA 24171
GEO:36.6456566;-80.2722472
END:VEVENT
END:VCALENDAR