BEGIN:VCALENDAR
VERSION:2.0
PRODID:-//Tukios.com/
BEGIN:VEVENT
UID:0fd53927-f462-4983-8e4b-0944b97fcd25@www.moodyfuneralservices.com
DTSTAMP:20260424T145922Z
DTSTART:20260427
SUMMARY:Burial
DESCRIPTION:
URL:https://www.moodyfuneralservices.com/obituaries/terry-ray
LOCATION: 20937 Jeb Stuart Hwy  Stuart VA 24171
GEO:36.6391917;-80.2172119
END:VEVENT
END:VCALENDAR